BEGIN:VCALENDAR
VERSION:2.0
PRODID:spatie/icalendar-generator
DESCRIPTION:Events from Inner City Youth Golfers\, Inc. (ICYG)
X-WR-CALDESC:Events from Inner City Youth Golfers\, Inc. (ICYG)
REFRESH-INTERVAL;VALUE=DURATION:PT1440M
X-PUBLISHED-TTL:PT1440M
BEGIN:VTIMEZONE
TZID:America/New_York
BEGIN:STANDARD
DTSTART:20241103T020000Z
TZOFFSETFROM:-0400
TZOFFSETTO:-0500
END:STANDARD
BEGIN:DAYLIGHT
DTSTART:20250309T020000Z
TZOFFSETFROM:-0500
TZOFFSETTO:-0400
END:DAYLIGHT
END:VTIMEZONE
BEGIN:VTIMEZONE
TZID:UTC
BEGIN:STANDARD
DTSTART:20250724T141623Z
TZOFFSETFROM:+0000
TZOFFSETTO:+0000
END:STANDARD
END:VTIMEZONE
BEGIN:VEVENT
UID:2-2
DTSTAMP:20260420T141623Z
SUMMARY:2024 Community Giants Awards
LOCATION:Eastpointe Country Club 13535 Eastpointe Blvd.  Palm Beach Gardens
  FL 33418
ORGANIZER;CN=gqy36:MAILTO:cynthia@ihostingwebs.com
DTSTART;TZID=America/New_York;VALUE=DATE:20241206
DTEND;TZID=America/New_York;VALUE=DATE:20241207
X-ALT-DESC;FMTTYPE=TEXT/HTML:Join us! 2024 Community Giants Awards \"ICYG 2
 024 Community Giants Awardees\" click here Reserve seat by Mail:  click
  here Online Tickets: Click here to reserve your seat (online)
CATEGORIES:General
URL;VALUE=URI:https://www.icyg.org/mc-events/2024-community-giants-awards/
METHOD:PUBLISH
END:VEVENT
END:VCALENDAR